BEGIN:VCALENDAR
VERSION:2.0
PRODID:-//Sports N Spokes - ECPv6.15.20//NONSGML v1.0//EN
CALSCALE:GREGORIAN
METHOD:PUBLISH
X-ORIGINAL-URL:https://sportsnspokes.com
X-WR-CALDESC:Events for Sports N Spokes
REFRESH-INTERVAL;VALUE=DURATION:PT1H
X-Robots-Tag:noindex
X-PUBLISHED-TTL:PT1H
BEGIN:VTIMEZONE
TZID:America/Phoenix
BEGIN:STANDARD
TZOFFSETFROM:-0700
TZOFFSETTO:-0700
TZNAME:MST
DTSTART:20240101T000000
END:STANDARD
END:VTIMEZONE
BEGIN:VEVENT
DTSTART;VALUE=DATE:20250404
DTEND;VALUE=DATE:20250407
DTSTAMP:20260422T134341
CREATED:20250108T201211Z
LAST-MODIFIED:20250108T201211Z
UID:17848-1743724800-1743983999@sportsnspokes.com
SUMMARY:2025 NWBA Junior Wheelchair Basketball National Championships
DESCRIPTION:Come out and see the junior and junior prep
URL:https://sportsnspokes.com/event/2025-nwba-junior-wheelchair-basketball-national-championships/
LOCATION:Henrico Sports & Events Center\, 11000 Telegraph Road\, Glen Allen\, VA\, 23059\, United States
CATEGORIES:NWBA
END:VEVENT
BEGIN:VEVENT
DTSTART;VALUE=DATE:20250406
DTEND;VALUE=DATE:20250407
DTSTAMP:20260422T134341
CREATED:20250304T190549Z
LAST-MODIFIED:20250304T190623Z
UID:18143-1743897600-1743983999@sportsnspokes.com
SUMMARY:Heels & Wheels 5K & Kids Fun Run
DESCRIPTION:Join Burke Rehabilitation for their 5K road race. Register using the event link below.
URL:https://sportsnspokes.com/event/heels-wheels-5k-kids-fun-run/
LOCATION:Burke Rehabilitation Hospital\, 785 Mamaroneck Avenue\, White Plains\, NY 10605\, NY\, 10605\, United States
CATEGORIES:adaptive sports
END:VEVENT
END:VCALENDAR