BEGIN:VCALENDAR
VERSION:2.0
PRODID:-//Sports N Spokes - ECPv6.15.17.1//NONSGML v1.0//EN
CALSCALE:GREGORIAN
METHOD:PUBLISH
X-WR-CALNAME:Sports N Spokes
X-ORIGINAL-URL:https://sportsnspokes.com
X-WR-CALDESC:Events for Sports N Spokes
REFRESH-INTERVAL;VALUE=DURATION:PT1H
X-Robots-Tag:noindex
X-PUBLISHED-TTL:PT1H
BEGIN:VTIMEZONE
TZID:America/Phoenix
BEGIN:STANDARD
TZOFFSETFROM:-0700
TZOFFSETTO:-0700
TZNAME:MST
DTSTART:20240101T000000
END:STANDARD
END:VTIMEZONE
BEGIN:VEVENT
DTSTART;TZID=America/Phoenix:20250627T080000
DTEND;TZID=America/Phoenix:20250629T170000
DTSTAMP:20260419T211322
CREATED:20250319T193557Z
LAST-MODIFIED:20250319T193557Z
UID:18203-1751011200-1751216400@sportsnspokes.com
SUMMARY:2025 Angel City Games
DESCRIPTION:
URL:https://sportsnspokes.com/event/2025-angel-city-games/
LOCATION:El Camino College\, 16007 Crenshaw BLVD\, Torrance\, CA\, 90506\, United States
CATEGORIES:adaptive sports
END:VEVENT
END:VCALENDAR