BEGIN:VCALENDAR
VERSION:2.0
PRODID:-//Sports N Spokes - ECPv6.15.17.1//NONSGML v1.0//EN
CALSCALE:GREGORIAN
METHOD:PUBLISH
X-ORIGINAL-URL:https://sportsnspokes.com
X-WR-CALDESC:Events for Sports N Spokes
REFRESH-INTERVAL;VALUE=DURATION:PT1H
X-Robots-Tag:noindex
X-PUBLISHED-TTL:PT1H
BEGIN:VTIMEZONE
TZID:America/Phoenix
BEGIN:STANDARD
TZOFFSETFROM:-0700
TZOFFSETTO:-0700
TZNAME:MST
DTSTART:20220101T000000
END:STANDARD
END:VTIMEZONE
BEGIN:VEVENT
DTSTART;VALUE=DATE:20230209
DTEND;VALUE=DATE:20230211
DTSTAMP:20260419T154423
CREATED:20230104T220847Z
LAST-MODIFIED:20230104T220847Z
UID:13133-1675900800-1676073599@sportsnspokes.com
SUMMARY:Inaugural TetraSki Race
DESCRIPTION:This race is for those with high-level Spinal Cord Injuries and power chair users with complex disabilities
URL:https://sportsnspokes.com/event/inaugural-tetraski-race/
LOCATION:Arizona Snowbowl\, 9300 N Snow Bowl Rd\, Flagstaff\, AZ\, 86001\, United States
CATEGORIES:Adaptive Skiing
END:VEVENT
END:VCALENDAR