BEGIN:VCALENDAR
VERSION:2.0
PRODID:-//Sports N Spokes - ECPv6.15.20//NONSGML v1.0//EN
CALSCALE:GREGORIAN
METHOD:PUBLISH
X-ORIGINAL-URL:https://sportsnspokes.com
X-WR-CALDESC:Events for Sports N Spokes
REFRESH-INTERVAL;VALUE=DURATION:PT1H
X-Robots-Tag:noindex
X-PUBLISHED-TTL:PT1H
BEGIN:VTIMEZONE
TZID:America/Phoenix
BEGIN:STANDARD
TZOFFSETFROM:-0700
TZOFFSETTO:-0700
TZNAME:MST
DTSTART:20220101T000000
END:STANDARD
END:VTIMEZONE
BEGIN:VEVENT
DTSTART;TZID=America/Phoenix:20230507T103000
DTEND;TZID=America/Phoenix:20230507T120000
DTSTAMP:20260423T110445
CREATED:20230412T165711Z
LAST-MODIFIED:20230412T165711Z
UID:13693-1683455400-1683460800@sportsnspokes.com
SUMMARY:All In Barrier Free Wheelchair Basketball Clinic
DESCRIPTION:The Center for Human Development (CHD) is hosting the All In: Barrier Free Wheelchair Basketball Camps at Smith College every Sunday from April 16 to May 14th.
URL:https://sportsnspokes.com/event/all-in-barrier-free-wheelchair-basketball-clinic-4/
LOCATION:Smith College\, MA\, 01063\, United States
CATEGORIES:adaptive sports,basketball
END:VEVENT
BEGIN:VEVENT
DTSTART;TZID=America/Phoenix:20230430T103000
DTEND;TZID=America/Phoenix:20230430T120000
DTSTAMP:20260423T110445
CREATED:20230412T165153Z
LAST-MODIFIED:20230412T165153Z
UID:13691-1682850600-1682856000@sportsnspokes.com
SUMMARY:All In Barrier Free Wheelchair Basketball Clinic
DESCRIPTION:The Center for Human Development (CHD) is hosting the All In: Barrier Free Wheelchair Basketball Camps at Smith College every Sunday from April 16 to May 14th.
URL:https://sportsnspokes.com/event/all-in-barrier-free-wheelchair-basketball-clinic-3/
LOCATION:Smith College\, MA\, 01063\, United States
CATEGORIES:adaptive sports,basketball
END:VEVENT
BEGIN:VEVENT
DTSTART;VALUE=DATE:20230429
DTEND;VALUE=DATE:20230501
DTSTAMP:20260423T110445
CREATED:20230111T203117Z
LAST-MODIFIED:20230111T203117Z
UID:13154-1682726400-1682899199@sportsnspokes.com
SUMMARY:Triumph Foundation Wheelchair Sports Festival
DESCRIPTION:Triumph Foundation’s 10th Annual Wheelchair Sports Festival featuring wheelchair hockey\, basketball\, quad rugby\, racquetball\, handcycling\, rohan rodeo\, scuba\, tennis\, baseball\, yoga\, art workshop\, resource fair\, and more! We will have coaches and instructors to teach people the games. Registration required.
URL:https://sportsnspokes.com/event/triumph-foundation-wheelchair-sports-festival/
LOCATION:Santa Clarita Sports Complex\, 20870 Centre Pointe Parkway\, Santa Clarita\, CA\, 91350\, United States
CATEGORIES:adaptive sports
END:VEVENT
BEGIN:VEVENT
DTSTART;TZID=America/Phoenix:20230423T103000
DTEND;TZID=America/Phoenix:20230423T120000
DTSTAMP:20260423T110445
CREATED:20230412T164913Z
LAST-MODIFIED:20230412T164913Z
UID:13689-1682245800-1682251200@sportsnspokes.com
SUMMARY:All In Barrier Free Wheelchair Basketball Clinic
DESCRIPTION:The Center for Human Development (CHD) is hosting the All In: Barrier Free Wheelchair Basketball Camps at Smith College every Sunday from April 16 to May 14th.
URL:https://sportsnspokes.com/event/all-in-barrier-free-wheelchair-basketball-clinic-2/
LOCATION:Smith College\, MA\, 01063\, United States
CATEGORIES:adaptive sports,basketball
END:VEVENT
BEGIN:VEVENT
DTSTART;TZID=America/Phoenix:20230416T103000
DTEND;TZID=America/Phoenix:20230416T120000
DTSTAMP:20260423T110445
CREATED:20230412T164436Z
LAST-MODIFIED:20230412T164436Z
UID:13686-1681641000-1681646400@sportsnspokes.com
SUMMARY:All In Barrier Free Wheelchair Basketball Clinic
DESCRIPTION:The Center for Human Development (CHD) is hosting the All In: Barrier Free Wheelchair Basketball Camps at Smith College every Sunday from April 16 to May 14th.
URL:https://sportsnspokes.com/event/all-in-barrier-free-wheelchair-basketball-clinic/
LOCATION:Smith College\, MA\, 01063\, United States
CATEGORIES:adaptive sports,basketball
END:VEVENT
END:VCALENDAR