BEGIN:VCALENDAR
VERSION:2.0
PRODID:-//Sports N Spokes - ECPv6.15.20//NONSGML v1.0//EN
CALSCALE:GREGORIAN
METHOD:PUBLISH
X-WR-CALNAME:Sports N Spokes
X-ORIGINAL-URL:https://sportsnspokes.com
X-WR-CALDESC:Events for Sports N Spokes
REFRESH-INTERVAL;VALUE=DURATION:PT1H
X-Robots-Tag:noindex
X-PUBLISHED-TTL:PT1H
BEGIN:VTIMEZONE
TZID:America/Phoenix
BEGIN:STANDARD
TZOFFSETFROM:-0700
TZOFFSETTO:-0700
TZNAME:MST
DTSTART:20220101T000000
END:STANDARD
END:VTIMEZONE
BEGIN:VEVENT
DTSTART;VALUE=DATE:20230608
DTEND;VALUE=DATE:20230612
DTSTAMP:20260421T123608
CREATED:20230502T215442Z
LAST-MODIFIED:20230502T215442Z
UID:13823-1686182400-1686527999@sportsnspokes.com
SUMMARY:2023 River City Slam
DESCRIPTION:The United States Tennis Association (USTA) Level 2 tournament will feature top-class players from across the country at Collegiate School’s Williams-Bollettieri Tennis Center on Robins Campus.
URL:https://sportsnspokes.com/event/2023-river-city-slam/
LOCATION:Williams-Bollettieri Tennis Center\, 400 Blair Rd\, Richmond\, VA\, 23238\, United States
CATEGORIES:Wheelchair Tennis
END:VEVENT
END:VCALENDAR